BEGIN:VCALENDAR
PRODID:NingEventWidget-v1
VERSION:2.0
METHOD:PUBLISH
BEGIN:VTIMEZONE
TZID:Europe/Madrid
X-LIC-LOCATION:Europe/Madrid
BEGIN:DAYLIGHT
TZOFFSETFROM:+0100
TZOFFSETTO:+0200
TZNAME:CEST
DTSTART:19700329T020000
RRULE:FREQ=YEARLY;BYMONTH=3;BYDAY=-1SU
END:DAYLIGHT
BEGIN:STANDARD
TZOFFSETFROM:+0200
TZOFFSETTO:+0100
TZNAME:CET
DTSTART:19701025T030000
RRULE:FREQ=YEARLY;BYMONTH=10;BYDAY=-1SU
END:STANDARD
END:VTIMEZONE
BEGIN:VEVENT
UID:6554195:Event:44458
DTSTAMP:20140122T221907Z
SUMMARY:International Conference on Business and Economic Development 
 (ICBED)
DESCRIPTION:International Conference on Business and Economic Developm
 ent (ICBED)\nCo-hosted by the\nAcademy of Business and Retail Manageme
 nt & Journal of Business and Retail Management Research\n\nFACTSOverv
 iew of the ConferenceThe world of business is undergoing a time of con
 siderable stress, change and in some sectors unprecedented growth. Muc
 h of the conventional wisdom concerning business education and theory 
 is being challenged and thus it is all the more important to endeavour
  to elucidate what is taking place. Economic certainties look increasi
 ngly vulnerable and existing formulas appear jaded and in some cases m
 oribund. Where once academics were fixated with global brands and mult
 i-nationals increasingly the role of SMEs is coming to the fore. Gover
 nments from Armenia to Somaliland are keen to find ways to stimulate b
 usiness and thus create local employment Regrettably the global econom
 ic crisis is increasingly used as an excuse for poor performance at al
 l levels thus limiting the search for routes out of it. It should not 
 be seen as a destroyer but as a purifier, ensuring the survival and pr
 osperity of the fittest. The business environment has changed and will
  be changing more than ever in years to come - some traditionally powe
 rful markets have weakened while others have grown, cultural and geogr
 aphical distances between people are shrinking, innovation in all aspe
 cts (technology, markets, finance, etc.) has become paramount for sust
 ainable competitive advantage. The challenge of economic development i
 s one faced by all nations and there is an extraordinary array of init
 iatives that are being put into place to act as ‘economic pump prime
 rs’. Whereas once developed markets would have only been interested 
 in how other developed economies are stimulating economic development,
  increasingly there is interest in how developing economies are provin
 g fertile nurseries for imaginative and often successful initiatives. 
 An added dimension is the role that new technologies can play.  This c
 onference seeks to explore a wealth of issues related Business and Eco
 nomic Development, contributions should therefore be of interest to sc
 holars, practitioners and researchers in management in both developed 
 and developing countries targeting a worldwide readership.\nConference
  ObjectivesTo learn more of the key concepts and frameworks from all d
 isciplines regarding wide range of contemporary issues in business and
  economic development. To explore how models of economic development v
 ary internationally. To consider the pedagogy for teaching the issue o
 f business & economic development, including recommendations about top
 ics, syllabi and course materials. Keep abreast of developing trends i
 n the field of business and economic development To meet and network w
 ith colleagues in one of America’s most celebrated cities.\n\nFor mo
 re information visit http://gaudeamusacademia.com/events/international
 -conference-on-business-and-economic-development-icb
DTSTART;TZID=Europe/Madrid:20140324T000000
DTEND;TZID=Europe/Madrid:20140325T235900
CATEGORIES:international, business, economics
LOCATION:Crown Plaza JFK Airport, New York
WEBSITE:http://www.abrmr.com/conference_detail.php?id=97
URL:http://www.abrmr.com/conference_detail.php?id=97
CONTACT:
ORGANIZER:Academy of Business and Retail Management
ATTACH;FMTTYPE="image/jpeg":http://api.ning.com:80/files/BpcxhYIbWSbdS
 nvzxYXceNf8PDGqn4TXCgW8wxQxaRLDbIRnP6eIv7POJ6g5naKUGmiKFWQMkpf-O1us1ZD
 u6Ui1B1qlSJMH/abrm.jpg
ATTENDEE;ROLE=REQ-PARTICIPANT;PARTSTAT=ACCEPTED;RSVP=TRUE;CN="Gaudeamu
 s Manager":http://gaudeamusacademia.com/profile/gaudeamusmanager
END:VEVENT
END:VCALENDAR
